BEGIN:VCALENDAR
VERSION:2.0
PRODID:-//wp-events-plugin.com//7.2.3//EN
TZID:Europe/Paris
X-WR-TIMEZONE:Europe/Paris
BEGIN:VEVENT
UID:282@zoo-mulhouse.com
DTSTART;TZID=Europe/Paris:20260305T140000
DTEND;TZID=Europe/Paris:20260306T140000
DTSTAMP:20260306T102827Z
URL:https://www.zoo-mulhouse.com/evenements/visite-vivre-ensemble-pourquoi
 -05-06-mars-2026/
SUMMARY:Visite "Vivre ensemble\, pourquoi ?"
DESCRIPTION:Au Parc\, comme dans leur milieu naturel\, certains animaux son
 t solitaires\, d'autres vivent en couple ou encore en groupe. Y'a-t-il un 
 avantage à vivre ensemble ? Quelle est la différence entre une colonie e
 t une société animale ? Est-ce qu'il y a toujours des hiérarchies ? Pen
 dant cette visite\, loups\, pélicans\, otaries\, manchots\, suricates et 
 flamants\, vont vous dévoiler leurs secrets ? Vous comprendrez en quoi se
  regrouper peut être parfois le meilleur choix de vie possible ! 
ATTACH;FMTTYPE=image/jpeg:https://www.zoo-mulhouse.com/wp-content/uploads/
 2026/01/2026-mais-vivre-ensemble-pourquoi.jpg
END:VEVENT
BEGIN:VTIMEZONE
TZID:Europe/Paris
X-LIC-LOCATION:Europe/Paris
BEGIN:STANDARD
DTSTART:20251026T020000
TZOFFSETFROM:+0200
TZOFFSETTO:+0100
TZNAME:CET
END:STANDARD
END:VTIMEZONE
END:VCALENDAR