BEGIN:VCALENDAR
VERSION:2.0
PRODID:-//wp-events-plugin.com//7.2.3//EN
TZID:Europe/Paris
X-WR-TIMEZONE:Europe/Paris
BEGIN:VEVENT
UID:279@zoo-mulhouse.com
DTSTART;TZID=Europe/Paris:20260318T150000
DTEND;TZID=Europe/Paris:20260318T150000
DTSTAMP:20260313T150959Z
URL:https://www.zoo-mulhouse.com/evenements/visite-on-a-les-crocs-2026/
SUMMARY:Visite "On a les crocs !"
DESCRIPTION:Incisives\, canines\, molaires : les dents\, on les connaît bi
 en. C'est là\, dans la bouche\, que débute le travail de la digestion. M
 ais qu'en est-il des dents des animaux ?
ATTACH;FMTTYPE=image/jpeg:https://www.zoo-mulhouse.com/wp-content/uploads/
 2026/01/2026-on-a-les-crocs.jpg
END:VEVENT
BEGIN:VTIMEZONE
TZID:Europe/Paris
X-LIC-LOCATION:Europe/Paris
BEGIN:STANDARD
DTSTART:20251026T020000
TZOFFSETFROM:+0200
TZOFFSETTO:+0100
TZNAME:CET
END:STANDARD
END:VTIMEZONE
END:VCALENDAR