BEGIN:VCALENDAR
VERSION:2.0
PRODID:-//wp-events-plugin.com//7.2.3//EN
TZID:Europe/Paris
X-WR-TIMEZONE:Europe/Paris
BEGIN:VEVENT
UID:281@zoo-mulhouse.com
DTSTART;TZID=Europe/Paris:20260226T140000
DTEND;TZID=Europe/Paris:20260227T140000
DTSTAMP:20260226T144339Z
URL:https://www.zoo-mulhouse.com/evenements/visite-les-couleurs-dans-le-mo
 nde-du-vivant-26-27-fevrier-2026/
SUMMARY:Visite "Les couleurs dans le monde du vivant"
DESCRIPTION:Les couleurs dans le monde du vivant\nUne expérience idéale p
 our tous les curieux de nature !\n\n&nbsp\;\n\nPour profiter de cette visi
 te\, il est obligatoire de vous munir d'une entrée au Parc.\n\n&nbsp\;\n\
 nCarnaval approche et beaucoup en profitent pour se déguiser avec plein d
 e fantaisie et de couleurs. Le monde du vivant est très riche en couleurs
  : écailles\, peaux\, plumages et pelages peuvent vous surprendre par l'
 éclat et l'exubérance de leurs teintes. Partez à la découverte des ani
 maux du Parc pour comprendre pourquoi les dendrobates ont des couleurs si 
 voyants\, pourquoi le bec des pélicans est orange vif en hiver ou encore 
 quel est le secret du plumage écarlate des ibis rouges.\n\n&nbsp\;\n\n\nI
 nformations pratiques :\n\n&nbsp\;\n\n 	Jeudi 26 et vendredi 27 février 2
 026\,\n 	À 14h00\,\n 	Durée : 1 heure\,\n 	Tarif : 4 €\,\n 	Âge minim
 um : 7 ans\,\n 	Sur réservation en ligne ou directement à l'entrée du P
 arc\,\n 	Pour tout renseignement complémentaire : zoo.accueil@m2a.fr.\n\n
 &nbsp\;\n\nBilletterie \n\n\n&nbsp\;
ATTACH;FMTTYPE=image/jpeg:https://www.zoo-mulhouse.com/wp-content/uploads/
 2026/01/2026-les-couleurs-dans-le-monde-du-vivant.jpg
END:VEVENT
BEGIN:VTIMEZONE
TZID:Europe/Paris
X-LIC-LOCATION:Europe/Paris
BEGIN:STANDARD
DTSTART:20251026T020000
TZOFFSETFROM:+0200
TZOFFSETTO:+0100
TZNAME:CET
END:STANDARD
END:VTIMEZONE
END:VCALENDAR