BEGIN:VCALENDAR
VERSION:2.0
PRODID:-//wp-events-plugin.com//7.2.3//EN
TZID:Europe/Paris
X-WR-TIMEZONE:Europe/Paris
BEGIN:VEVENT
UID:277@zoo-mulhouse.com
DTSTART;TZID=Europe/Paris;VALUE=DATE:20260129
DTEND;TZID=Europe/Paris;VALUE=DATE:20260131
DTSTAMP:20260123T102441Z
URL:https://www.zoo-mulhouse.com/evenements/visite-les-animaux-du-parc-zoo
 logique-voyagent-2026/
SUMMARY:Visite : "Les animaux du Parc Zoologique & Botanique voyagent !"
DESCRIPTION:Les animaux du Parc Zoologique voyagent !\nUne expérience idé
 ale pour tous les curieux de nature !\n\n&nbsp\;\n\nPour profiter de cette
  visite\, il est obligatoire de vous munir d'une entrée au Parc.\n\n&nbsp
 \;\n\nEn 2025\, au Parc Zoologique &amp\; Botanique de Mulhouse\, un grand
  nombre d'animaux ont migré. Comment ont-ils voyagé ? Qu'a-t-il été mi
 s en place pour les préparer à leur départ ou pour bien les accueillir 
 ? Comment et par qui sont gérés ces transferts ? Pendant cette visite vo
 us découvrirez comment ont voyagé les trois girafes qui ont rejoint Hori
 zon Afrique\, et comment s'est déroulé le transfert de Kara\, l'ours pol
 aire\, vers sa nouvelle destination \; pourquoi le dernier vautour moine h
 ébergé au Parc est parti et comment les équipes ont préparé le retour
  de Papaye\, la femelle casoar. Une visite idéale pour ceux qui veulent r
 entrer au cœur de la vie des animaux du Parc !\n\n&nbsp\;\n\n\nInformatio
 ns pratiques :\n\n&nbsp\;\n\n 	Jeudi 29 et vendredi 30 janvier 2026\, à 1
 4h00\,\n 	Durée : 1 heure\,\n 	Âge minimum : 7 ans\,\n 	Sur réservation
  en ligne ou directement à l'entrée du Parc.\n\n&nbsp\;\n\nBilletterie 
 \n\n\n&nbsp\;
ATTACH;FMTTYPE=image/jpeg:https://www.zoo-mulhouse.com/wp-content/uploads/
 2026/01/2026-les-animaux-du-Parc-voyagent-1920x420px-.jpg
END:VEVENT
BEGIN:VTIMEZONE
TZID:Europe/Paris
X-LIC-LOCATION:Europe/Paris
BEGIN:STANDARD
DTSTART:20251026T020000
TZOFFSETFROM:+0200
TZOFFSETTO:+0100
TZNAME:CET
END:STANDARD
END:VTIMEZONE
END:VCALENDAR