BEGIN:VCALENDAR
VERSION:2.0
PRODID:-//wp-events-plugin.com//7.2.3//EN
TZID:Europe/Paris
X-WR-TIMEZONE:Europe/Paris
BEGIN:VEVENT
UID:294@zoo-mulhouse.com
DTSTART;TZID=Europe/Paris:20260916T150000
DTEND;TZID=Europe/Paris:20260916T150000
DTSTAMP:20260316T151730Z
URL:https://www.zoo-mulhouse.com/evenements/visite-charles-darwin-et-son-v
 oyage-autour-du-monde-2026/
SUMMARY:Visite "Charles Darwin et son voyage autour du monde"
DESCRIPTION:En suivant cette visite sur Charles Darwin et son périple\, vo
 us découvrirez à travers son regard attentif flamants\, nandou\, vigogne
 s\, tortues géantes\, wallabies et humains.
ATTACH;FMTTYPE=image/jpeg:https://www.zoo-mulhouse.com/wp-content/uploads/
 2026/03/2026-charles-darwin-et-son-voyage-autour-du-monde-zoo-1920x420px.j
 pg
END:VEVENT
BEGIN:VTIMEZONE
TZID:Europe/Paris
X-LIC-LOCATION:Europe/Paris
BEGIN:DAYLIGHT
DTSTART:20260329T030000
TZOFFSETFROM:+0100
TZOFFSETTO:+0200
TZNAME:CEST
END:DAYLIGHT
END:VTIMEZONE
END:VCALENDAR