BEGIN:VCALENDAR
VERSION:2.0
PRODID:-//wp-events-plugin.com//7.2.3//EN
TZID:Europe/Paris
X-WR-TIMEZONE:Europe/Paris
BEGIN:VEVENT
UID:287@zoo-mulhouse.com
DTSTART;TZID=Europe/Paris;VALUE=DATE:20260711
DTEND;TZID=Europe/Paris;VALUE=DATE:20260715
DTSTAMP:20260313T151224Z
URL:https://www.zoo-mulhouse.com/evenements/journees-de-leaza-2026/
SUMMARY:Journées de l’Association Européenne des Zoos et Aquariums (EAZ
 A)
DESCRIPTION:En partenariat avec l’Association Européenne des Zoos et Aqu
 ariums (EAZA)\, le Parc Zoologique & Botanique de Mulhouse vous invite à 
 découvrir\, comprendre et protéger les zones humides\, ces écosystèmes
  d’une richesse inégalée.
ATTACH;FMTTYPE=image/jpeg:https://www.zoo-mulhouse.com/wp-content/uploads/
 2026/02/2026-journee-de-EAZA-1920x420px.jpg
END:VEVENT
BEGIN:VTIMEZONE
TZID:Europe/Paris
X-LIC-LOCATION:Europe/Paris
BEGIN:DAYLIGHT
DTSTART:20260329T030000
TZOFFSETFROM:+0100
TZOFFSETTO:+0200
TZNAME:CEST
END:DAYLIGHT
END:VTIMEZONE
END:VCALENDAR